BEGIN:VCALENDAR
PRODID:NingEventWidget-v1
VERSION:2.0
METHOD:PUBLISH
BEGIN:VTIMEZONE
TZID:Europe/London
X-LIC-LOCATION:Europe/London
BEGIN:DAYLIGHT
TZOFFSETFROM:+0000
TZOFFSETTO:+0100
TZNAME:BST
DTSTART:19700329T010000
RRULE:FREQ=YEARLY;BYMONTH=3;BYDAY=-1SU
END:DAYLIGHT
BEGIN:STANDARD
TZOFFSETFROM:+0100
TZOFFSETTO:+0000
TZNAME:GMT
DTSTART:19701025T020000
RRULE:FREQ=YEARLY;BYMONTH=10;BYDAY=-1SU
END:STANDARD
END:VTIMEZONE
BEGIN:VEVENT
UID:2496677:Event:2794503
DTSTAMP:20260424T052838Z
SUMMARY:OPEN CALL -\"Ephemeral in Art\" International Mail Art
DESCRIPTION:International Mail Art Exhibition. Theme: 'Ephemeral in Ar
 t', in the frame of 'Livadi of the Ephemeral VI'-DEADLINE: 31st of JUL
 Y, 2023\n-Theme: 'Ephemeral in Art'\nhttps://www.facebook.com/events/8
 09128027302251\n\nFor more information visit https://iuoma-network.nin
 g.com/events/open-call-ephemeral-in-art-international-mail-art
DTSTART;TZID=Europe/London:20230510T180000
DTEND;TZID=Europe/London:20230731T190000
CATEGORIES:art, exhibition
LOCATION:Livadi/Thessaloniki/Greece
WEBSITE:https://www.fkth.gr/en/node/1229
URL:https://www.fkth.gr/en/node/1229
CONTACT:
ORGANIZER;CN="Thanassis Raptis":https://iuoma-network.ning.com/profile
 /ThanassisRaptis726
ATTACH;FMTTYPE="image/jpeg":https://storage.ning.com/topology/rest/1.0
 /file/get/11074327883?profile=original
ATTENDEE;ROLE=REQ-PARTICIPANT;PARTSTAT=ACCEPTED;RSVP=TRUE;CN="Thanassi
 s Raptis":https://iuoma-network.ning.com/profile/ThanassisRaptis726
END:VEVENT
END:VCALENDAR
