BEGIN:VCALENDAR
PRODID:NingEventWidget-v1
VERSION:2.0
METHOD:PUBLISH
BEGIN:VTIMEZONE
TZID:Europe/London
X-LIC-LOCATION:Europe/London
BEGIN:DAYLIGHT
TZOFFSETFROM:+0000
TZOFFSETTO:+0100
TZNAME:BST
DTSTART:19700329T010000
RRULE:FREQ=YEARLY;BYMONTH=3;BYDAY=-1SU
END:DAYLIGHT
BEGIN:STANDARD
TZOFFSETFROM:+0100
TZOFFSETTO:+0000
TZNAME:GMT
DTSTART:19701025T020000
RRULE:FREQ=YEARLY;BYMONTH=10;BYDAY=-1SU
END:STANDARD
END:VTIMEZONE
BEGIN:VEVENT
UID:2496677:Event:1854152
DTSTAMP:20260419T150048Z
SUMMARY:Halloween Artist Trading Card Trade
DESCRIPTION:After the deadline, you will receive 3 new cards by other 
 artists for your collection. Feel free to contact them about their wor
 k! And participate as many times as you like! 1. Make 3 artist trading
  cards. Theme is HALLOWEEN! a. Each card must be 2.5”x3.5”b. Cards
  should be original artwork made by you, please no digital prints of w
 orks. If you use your photography, it must be altered in some way. c. 
 Any medium applies. d. Cards can be all the same or all different, or 
 any combination of the two. e. All cards must be able to fit into a st
 andard plastic sleeve used for baseball or collector’s cards. 2. Inc
 lude your name and email and/or website/ blog on the back of ea...ch c
 ard (write legibly). 3. Include a 2.5”x3.5” sheet of paper with yo
 ur name, address, and contact information. 4. Include a SASE (self-add
 ressed stamped envelope with enough postage to return your cards to yo
 u). Please do not send padded envelopes unless you have the correct po
 stage. If you are international please include a self addressed envelo
 pe and $2.00 for postage. I cannot return new artist cards to you if I
  don’t get a SASE with the proper postage! 5. Mail your cards, conta
 ct information, and a SASE to: Leslie Hart Studio 10 Central Avenue, #
 3 Greenville, SC 29601  Details: lesliehartstudio.BlogSpot.com  Questi
 ons: lesliehartstudio@gmail.com\n\nFor more information visit https://
 iuoma-network.ning.com/events/halloween-artist-trading-card-trade
DTSTART;TZID=Europe/London:20151007T180000
DTEND;TZID=Europe/London:20151031T120000
CATEGORIES:halloween, atc, "trade!"
LOCATION:Leslie Hart Studio
WEBSITE:http://lesliehartstudio.blogspot.com
URL:http://lesliehartstudio.blogspot.com
CONTACT:864-238-0387
ORGANIZER;CN="leslie hart studio":https://iuoma-network.ning.com/profi
 le/Lesliehartstudio
ATTACH;FMTTYPE="image/jpeg":
ATTENDEE;ROLE=REQ-PARTICIPANT;PARTSTAT=ACCEPTED;RSVP=TRUE;CN="leslie h
 art studio":https://iuoma-network.ning.com/profile/Lesliehartstudio
END:VEVENT
END:VCALENDAR
